BEGIN:VCALENDAR
VERSION:2.0
PRODID:-//Sherman Parks &amp; Rec - ECPv6.15.20//NONSGML v1.0//EN
CALSCALE:GREGORIAN
METHOD:PUBLISH
X-WR-CALNAME:Sherman Parks &amp; Rec
X-ORIGINAL-URL:https://shermanparks.com
X-WR-CALDESC:Events for Sherman Parks &amp; Rec
REFRESH-INTERVAL;VALUE=DURATION:PT1H
X-Robots-Tag:noindex
X-PUBLISHED-TTL:PT1H
BEGIN:VTIMEZONE
TZID:America/Chicago
BEGIN:DAYLIGHT
TZOFFSETFROM:-0600
TZOFFSETTO:-0500
TZNAME:CDT
DTSTART:20250309T080000
END:DAYLIGHT
BEGIN:STANDARD
TZOFFSETFROM:-0500
TZOFFSETTO:-0600
TZNAME:CST
DTSTART:20251102T070000
END:STANDARD
BEGIN:DAYLIGHT
TZOFFSETFROM:-0600
TZOFFSETTO:-0500
TZNAME:CDT
DTSTART:20260308T080000
END:DAYLIGHT
BEGIN:STANDARD
TZOFFSETFROM:-0500
TZOFFSETTO:-0600
TZNAME:CST
DTSTART:20261101T070000
END:STANDARD
BEGIN:DAYLIGHT
TZOFFSETFROM:-0600
TZOFFSETTO:-0500
TZNAME:CDT
DTSTART:20270314T080000
END:DAYLIGHT
BEGIN:STANDARD
TZOFFSETFROM:-0500
TZOFFSETTO:-0600
TZNAME:CST
DTSTART:20271107T070000
END:STANDARD
END:VTIMEZONE
BEGIN:VEVENT
DTSTART;TZID=America/Chicago:20260328T160000
DTEND;TZID=America/Chicago:20260328T160000
DTSTAMP:20260421T050604
CREATED:20250317T143822Z
LAST-MODIFIED:20260224T163131Z
UID:10707-1774713600-1774713600@shermanparks.com
SUMMARY:Eggstravaganza
DESCRIPTION:Join us for the ultimate Easter egg hunt! With over 10\,000 eggs hidden throughout Fairview Park\, this is an event you don’t want to miss! \n📅 Date: Saturday\, March 28⏰ Time: 4:00 PM (Don’t be late or you might miss out!)📍 Location: Fairview Park \n🎯 Age-Grouped Egg Hunts\nTo keep things fair and fun\, hunters will be divided into age groups so everyone gets a chance to collect plenty of eggs! \n🏆 Find the Prize Eggs!\nAfter the hunt\, crack open your eggs—some might have special prize eggs inside! \n📸 Meet the Easter Bunny!\nBring your camera and snap a photo with the Easter Bunny before or after the hunt! \n🎟 This event is FREE! Bring your basket\, bring your friends\, and let’s make some unforgettable Easter memories! \n🌸 Don’t miss out—arrive on time! The hunt starts at 4 PM sharp! 🌸
URL:https://shermanparks.com/event/eggstravaganza-4/
LOCATION:Fairview Park\, 1121 W Taylor St.\, Sherman\, TX\, 75090\, United States
END:VEVENT
BEGIN:VEVENT
DTSTART;TZID=America/Chicago:20260411T100000
DTEND;TZID=America/Chicago:20260411T140000
DTSTAMP:20260421T050604
CREATED:20260304T220035Z
LAST-MODIFIED:20260304T220503Z
UID:11210-1775901600-1775916000@shermanparks.com
SUMMARY:Touch a Truck
DESCRIPTION:Touch-A-Truck \nKids can explore\, climb on\, and learn about vehicles of all shapes and sizes at this hands-on community favorite. The first hour will be a silent hour\, providing a more sensory-friendly experience. \nPecan Grove West \nApril 11 | 10:00 AM–2:00 PM
URL:https://shermanparks.com/event/11210/
LOCATION:Pecan Grove Park West\, 3200 Canyon Creek Dr\, Sherman\, TX\, 75092\, United States
END:VEVENT
END:VCALENDAR