BEGIN:VCALENDAR
VERSION:2.0
PRODID:-//Sherman Parks &amp; Rec - ECPv6.15.20//NONSGML v1.0//EN
CALSCALE:GREGORIAN
METHOD:PUBLISH
X-ORIGINAL-URL:https://shermanparks.com
X-WR-CALDESC:Events for Sherman Parks &amp; Rec
REFRESH-INTERVAL;VALUE=DURATION:PT1H
X-Robots-Tag:noindex
X-PUBLISHED-TTL:PT1H
BEGIN:VTIMEZONE
TZID:America/Chicago
BEGIN:DAYLIGHT
TZOFFSETFROM:-0600
TZOFFSETTO:-0500
TZNAME:CDT
DTSTART:20240310T080000
END:DAYLIGHT
BEGIN:STANDARD
TZOFFSETFROM:-0500
TZOFFSETTO:-0600
TZNAME:CST
DTSTART:20241103T070000
END:STANDARD
BEGIN:DAYLIGHT
TZOFFSETFROM:-0600
TZOFFSETTO:-0500
TZNAME:CDT
DTSTART:20250309T080000
END:DAYLIGHT
BEGIN:STANDARD
TZOFFSETFROM:-0500
TZOFFSETTO:-0600
TZNAME:CST
DTSTART:20251102T070000
END:STANDARD
BEGIN:DAYLIGHT
TZOFFSETFROM:-0600
TZOFFSETTO:-0500
TZNAME:CDT
DTSTART:20260308T080000
END:DAYLIGHT
BEGIN:STANDARD
TZOFFSETFROM:-0500
TZOFFSETTO:-0600
TZNAME:CST
DTSTART:20261101T070000
END:STANDARD
END:VTIMEZONE
BEGIN:VEVENT
DTSTART;TZID=America/Chicago:20250719T070000
DTEND;TZID=America/Chicago:20250719T120000
DTSTAMP:20260421T050331
CREATED:20250521T210716Z
LAST-MODIFIED:20250523T185251Z
UID:10796-1752908400-1752926400@shermanparks.com
SUMMARY:Splash and Dash
DESCRIPTION:Splash and Dash at Fairview Park\nGet ready to make a splash and dash to the finish line! The Splash and Dash is a fun\, family-friendly race open to kids and adults\, combining the excitement of swimming and running in the beautiful setting of Fairview Pool and Park. \n🏊‍♂️ Race Details\nParticipants will begin with a swim in Fairview Pool\, snaking through the lap lanes. After exiting the water\, racers will transition inside The Splash before hitting the pavement for the running portion of the race through Fairview Park. \nWhether you’re a first-time racer or a seasoned athlete\, Splash and Dash is a great way to challenge yourself and enjoy a high-energy event with the community! \n👟 Race Distances\nKids (Ages 6–18):150m swim + 1 mile run \nAdults (Ages 18+):300m swim + 5K run \nNote: Race routes will be posted soon — stay tuned! \n📝 Registration Info\nAll participants must: \nPay the event entry fee \nHold a valid USA Triathlon (USAT) membershipDon’t have one? Single-race memberships are available at usatriathlon.org/membership \n⚠️ Participation is capped at 100 racers (combined total of kids and adults)\, so don’t wait—register now to secure your spot! \n🎽 Race Day Perks\nEach participant will receive a race bag including: \nBib number \nOfficial Splash and Dash T-shirt \nSponsor swag & promotional items \nAfter crossing the finish line\, racers can cool off and celebrate with: \nComplimentary refreshments from our sponsors \nFree admission to The Splash for the rest of the day! \n\n🙌 Thank You to Our Sponsors!\nWe couldn’t make this event possible without the generous support of our community partners. A big thank you to: \nPlyler Construction \nUnderground Sports Nutrition \nNautilus Family Fitness \nPhillips Realty Group \nTexoma Swim Academy \nTexas Farm Bureau Insurance – Agent Daren Foster \nYour support helps us create a fun\, safe\, and memorable experience for participants of all ages! \n\n🔗 Ready to race?\nRegister now and get ready to swim\, sprint\, and splash your way to the finish!
URL:https://shermanparks.com/event/splash-and-dash/
LOCATION:Fairview Park\, 1121 W Taylor St.\, Sherman\, TX\, 75090\, United States
END:VEVENT
END:VCALENDAR